BEGIN:VCALENDAR
VERSION:2.0
PRODID:icalendar-ruby
CALSCALE:GREGORIAN
METHOD:PUBLISH
BEGIN:VEVENT
DTSTAMP:20260425T221329Z
UID:f9b582af-9ddc-4eb2-99f8-aa14f59fb68e
DTSTART;VALUE=DATE:20230719
DTEND;VALUE=DATE:20230719
DESCRIPTION:Kingston Point BMX
LOCATION:4 Delaware Ave  Kingston NY 12401 USA
SUMMARY:Local Race Single
URL:/site/bmx_races/528859
END:VEVENT
END:VCALENDAR
