BEGIN:VCALENDAR
VERSION:2.0
PRODID:icalendar-ruby
CALSCALE:GREGORIAN
METHOD:PUBLISH
BEGIN:VEVENT
DTSTAMP:20260423T190843Z
UID:1743a915-b5c5-4483-bf2a-82690b0d75e9
DTSTART;VALUE=DATE:20230507
DTEND;VALUE=DATE:20230507
DESCRIPTION:Wheelhouse BMX
LOCATION:10401 E Hwy 89 A   Prescott AZ 86315 USA
SUMMARY:Practice
URL:/site/bmx_races/528978
END:VEVENT
END:VCALENDAR
