BEGIN:VCALENDAR
VERSION:2.0
PRODID:icalendar-ruby
CALSCALE:GREGORIAN
METHOD:PUBLISH
BEGIN:VEVENT
DTSTAMP:20260421T182338Z
UID:3b340b50-d9ed-49fd-8046-33fa86eff753
DTSTART;VALUE=DATE:20230803
DTEND;VALUE=DATE:20230803
DESCRIPTION:Razor City BMX
LOCATION:200 Pumphouse Ln  Gillette WY 82716 USA
SUMMARY:Local Race Single
URL:/site/bmx_races/529003
END:VEVENT
END:VCALENDAR
