BEGIN:VCALENDAR
VERSION:2.0
PRODID:icalendar-ruby
CALSCALE:GREGORIAN
METHOD:PUBLISH
BEGIN:VEVENT
DTSTAMP:20260422T233100Z
UID:847fa749-ae8b-4482-84e3-704f14c7580e
DTSTART;VALUE=DATE:20230617
DTEND;VALUE=DATE:20230617
DESCRIPTION:Waterford Oaks BMX
LOCATION:1702 Scott Lake Rd  Waterford MI 48328 USA
SUMMARY:Local Race Single
URL:/site/bmx_races/530031
END:VEVENT
END:VCALENDAR
