BEGIN:VCALENDAR
VERSION:2.0
PRODID:icalendar-ruby
CALSCALE:GREGORIAN
METHOD:PUBLISH
BEGIN:VEVENT
DTSTAMP:20260421T204955Z
UID:1044d835-369e-4dd3-a4ee-f15b2fae0560
DTSTART;VALUE=DATE:20230610
DTEND;VALUE=DATE:20230610
DESCRIPTION:North Shore BMX
LOCATION:1301 Lillooet Road  North Vancouver BC V7J 3T7 CAN
SUMMARY:Practice
URL:/site/bmx_races/530376
END:VEVENT
END:VCALENDAR
