BEGIN:VCALENDAR
VERSION:2.0
PRODID:icalendar-ruby
CALSCALE:GREGORIAN
METHOD:PUBLISH
BEGIN:VEVENT
DTSTAMP:20260421T154351Z
UID:5a62c210-7a16-4c33-a65e-baeeff423438
DTSTART;VALUE=DATE:20230916
DTEND;VALUE=DATE:20230916
DESCRIPTION:North Shore BMX
LOCATION:1301 Lillooet Road  North Vancouver BC V7J 3T7 CAN
SUMMARY:Practice
URL:/site/bmx_races/530389
END:VEVENT
END:VCALENDAR
