BEGIN:VCALENDAR
VERSION:2.0
PRODID:icalendar-ruby
CALSCALE:GREGORIAN
METHOD:PUBLISH
BEGIN:VEVENT
DTSTAMP:20260422T012327Z
UID:19506d1c-623c-497c-ba13-aaff1544a758
DTSTART;VALUE=DATE:20230518
DTEND;VALUE=DATE:20230518
DESCRIPTION:Derby City BMX
LOCATION:3000 Freys Hill Rd  Louisville KY 40241 USA
SUMMARY:Clinic
URL:/site/bmx_races/530416
END:VEVENT
END:VCALENDAR
