BEGIN:VCALENDAR
VERSION:2.0
PRODID:icalendar-ruby
CALSCALE:GREGORIAN
METHOD:PUBLISH
BEGIN:VEVENT
DTSTAMP:20260426T011859Z
UID:824d8db9-e669-46e9-82f9-c9424bef3626
DTSTART;VALUE=DATE:20230602
DTEND;VALUE=DATE:20230602
DESCRIPTION:Bradley BMX
LOCATION:234 Urbane Rd  Cleveland TN 37312 USA
SUMMARY:Local Race Single
URL:/site/bmx_races/530646
END:VEVENT
END:VCALENDAR
