BEGIN:VCALENDAR
VERSION:2.0
PRODID:icalendar-ruby
CALSCALE:GREGORIAN
METHOD:PUBLISH
BEGIN:VEVENT
DTSTAMP:20260421T172146Z
UID:918102d1-80d9-4d6f-80f8-191c2788eec5
DTSTART;VALUE=DATE:20230512
DTEND;VALUE=DATE:20230512
DESCRIPTION:Twin Silo BMX
LOCATION:5400 Ziegler Rd.   Ft Collins CO 80528 USA
SUMMARY:Non-Riding Event
URL:/site/bmx_races/531169
END:VEVENT
END:VCALENDAR
