BEGIN:VCALENDAR
VERSION:2.0
PRODID:icalendar-ruby
CALSCALE:GREGORIAN
METHOD:PUBLISH
BEGIN:VEVENT
DTSTAMP:20260422T012327Z
UID:25f617e9-ce54-42af-becd-61125feaafd6
DTSTART;VALUE=DATE:20230523
DTEND;VALUE=DATE:20230523
DESCRIPTION:Derby City BMX
LOCATION:3000 Freys Hill Rd  Louisville KY 40241 USA
SUMMARY:Local Race Single
URL:/site/bmx_races/531764
END:VEVENT
END:VCALENDAR
