BEGIN:VCALENDAR
VERSION:2.0
PRODID:icalendar-ruby
CALSCALE:GREGORIAN
METHOD:PUBLISH
BEGIN:VEVENT
DTSTAMP:20260422T012327Z
UID:5c814e53-107a-4e52-b2c5-b8e03242186d
DTSTART;VALUE=DATE:20230524
DTEND;VALUE=DATE:20230524
DESCRIPTION:Derby City BMX
LOCATION:3000 Freys Hill Rd  Louisville KY 40241 USA
SUMMARY:Practice
URL:/site/bmx_races/531765
END:VEVENT
END:VCALENDAR
