BEGIN:VCALENDAR
VERSION:2.0
PRODID:icalendar-ruby
CALSCALE:GREGORIAN
METHOD:PUBLISH
BEGIN:VEVENT
DTSTAMP:20260422T012332Z
UID:890d553f-9d73-426c-a1c9-b10dc7d198ec
DTSTART;VALUE=DATE:20230531
DTEND;VALUE=DATE:20230531
DESCRIPTION:Derby City BMX
LOCATION:3000 Freys Hill Rd  Louisville KY 40241 USA
SUMMARY:Practice
URL:/site/bmx_races/531767
END:VEVENT
END:VCALENDAR
