BEGIN:VCALENDAR
VERSION:2.0
PRODID:icalendar-ruby
CALSCALE:GREGORIAN
METHOD:PUBLISH
BEGIN:VEVENT
DTSTAMP:20260421T232505Z
UID:659d1ac3-0596-476e-ba66-17f636f38d74
DTSTART;VALUE=DATE:20230802
DTEND;VALUE=DATE:20230802
DESCRIPTION:Mike Sedar BMX
LOCATION:789 College Dr  Casper WY 82601 USA
SUMMARY:Practice
URL:/site/bmx_races/531846
END:VEVENT
END:VCALENDAR
