BEGIN:VCALENDAR
VERSION:2.0
PRODID:icalendar-ruby
CALSCALE:GREGORIAN
METHOD:PUBLISH
BEGIN:VEVENT
DTSTAMP:20260421T222357Z
UID:dcd903b3-5a8d-422a-8e5f-f019262e10d5
DTSTART;VALUE=DATE:20230824
DTEND;VALUE=DATE:20230824
DESCRIPTION:Mike Sedar BMX
LOCATION:789 College Dr  Casper WY 82601 USA
SUMMARY:Local Race Single
URL:/site/bmx_races/531857
END:VEVENT
END:VCALENDAR
