BEGIN:VCALENDAR
VERSION:2.0
PRODID:icalendar-ruby
CALSCALE:GREGORIAN
METHOD:PUBLISH
BEGIN:VEVENT
DTSTAMP:20260421T204804Z
UID:4b5a7ee6-3b4e-4329-a052-f9edd50abc66
DTSTART;VALUE=DATE:20230913
DTEND;VALUE=DATE:20230913
DESCRIPTION:Mike Sedar BMX
LOCATION:789 College Dr  Casper WY 82601 USA
SUMMARY:Practice
URL:/site/bmx_races/531865
END:VEVENT
END:VCALENDAR
