BEGIN:VCALENDAR
VERSION:2.0
PRODID:icalendar-ruby
CALSCALE:GREGORIAN
METHOD:PUBLISH
BEGIN:VEVENT
DTSTAMP:20260421T190641Z
UID:734cd20d-457b-497f-903c-28add36f8bac
DTSTART;VALUE=DATE:20231011
DTEND;VALUE=DATE:20231011
DESCRIPTION:Mike Sedar BMX
LOCATION:789 College Dr  Casper WY 82601 USA
SUMMARY:Practice
URL:/site/bmx_races/531877
END:VEVENT
END:VCALENDAR
