BEGIN:VCALENDAR
VERSION:2.0
PRODID:icalendar-ruby
CALSCALE:GREGORIAN
METHOD:PUBLISH
BEGIN:VEVENT
DTSTAMP:20260421T041500Z
UID:5dad2560-4ecd-43fe-affc-3419084a99fd
DTSTART;VALUE=DATE:20230517
DTEND;VALUE=DATE:20230517
DESCRIPTION:Grand Prix BMX at SoCal Fair
LOCATION:18700 Lake Perris Dr  Perris CA 92571 USA
SUMMARY:Local Race Single
URL:/site/bmx_races/531889
END:VEVENT
END:VCALENDAR
