BEGIN:VCALENDAR
VERSION:2.0
PRODID:icalendar-ruby
CALSCALE:GREGORIAN
METHOD:PUBLISH
BEGIN:VEVENT
DTSTAMP:20260425T234619Z
UID:701d9832-77a2-4b0d-bf24-d175f06b48d2
DTSTART;VALUE=DATE:20230521
DTEND;VALUE=DATE:20230521
DESCRIPTION:Woodland BMX
LOCATION:880 Victory Hwy  West Greenwich RI 02817 USA
SUMMARY:Local Race Single
URL:/site/bmx_races/531900
END:VEVENT
END:VCALENDAR
