BEGIN:VCALENDAR
VERSION:2.0
PRODID:icalendar-ruby
CALSCALE:GREGORIAN
METHOD:PUBLISH
BEGIN:VEVENT
DTSTAMP:20260419T155525Z
UID:2a45c67f-7ba1-4691-8bf3-0af0cf43032e
DTSTART;VALUE=DATE:20230614
DTEND;VALUE=DATE:20230614
DESCRIPTION:HD BMX
LOCATION:17427 Live Oak St  Hesperia CA 92345 USA
SUMMARY:Local Race Single
URL:/site/bmx_races/532089
END:VEVENT
END:VCALENDAR
