BEGIN:VCALENDAR
VERSION:2.0
PRODID:icalendar-ruby
CALSCALE:GREGORIAN
METHOD:PUBLISH
BEGIN:VEVENT
DTSTAMP:20260424T142848Z
UID:0c0bce15-59cd-4173-a8a6-51e5fb2d38a4
DTSTART;VALUE=DATE:20230606
DTEND;VALUE=DATE:20230606
DESCRIPTION:Lincoln Park BMX
LOCATION:South L St & W. Lauridsen Blvd  Port Angeles WA 98362 USA
SUMMARY:Non-Riding Event
URL:/site/bmx_races/532927
END:VEVENT
END:VCALENDAR
