BEGIN:VCALENDAR
VERSION:2.0
PRODID:icalendar-ruby
CALSCALE:GREGORIAN
METHOD:PUBLISH
BEGIN:VEVENT
DTSTAMP:20260424T042138Z
UID:259c70d7-1754-4ba7-a630-88c00c7c8df3
DTSTART;VALUE=DATE:20130426
DTEND;VALUE=DATE:20130426
DESCRIPTION:Naples BMX
LOCATION:4701 Golden Gate Parkway  Naples FL 34116 USA
SUMMARY:Local Race Single
URL:/site/bmx_races/53343
END:VEVENT
END:VCALENDAR
