BEGIN:VCALENDAR
VERSION:2.0
PRODID:icalendar-ruby
CALSCALE:GREGORIAN
METHOD:PUBLISH
BEGIN:VEVENT
DTSTAMP:20260419T155437Z
UID:df6e466b-827d-4e06-978e-0a61bef9fe47
DTSTART;VALUE=DATE:20230611
DTEND;VALUE=DATE:20230611
DESCRIPTION:Electric City BMX
LOCATION:1200 21st Ave So  Great Falls MT 59405 USA
SUMMARY:BMX Registration Day Single
URL:/site/bmx_races/533596
END:VEVENT
END:VCALENDAR
