BEGIN:VCALENDAR
VERSION:2.0
PRODID:icalendar-ruby
CALSCALE:GREGORIAN
METHOD:PUBLISH
BEGIN:VEVENT
DTSTAMP:20260423T040830Z
UID:47a8e30a-f51a-4a22-a466-85a0b26f3b95
DTSTART;VALUE=DATE:20230702
DTEND;VALUE=DATE:20230702
DESCRIPTION:Supertrak BMX
LOCATION:Carrie Jane Gray Park 323 Del Laverdure Way Prince George BC V2N4Z
 5 CAN
SUMMARY:Race for Life Double
URL:/site/bmx_races/533752
END:VEVENT
END:VCALENDAR
