BEGIN:VCALENDAR
VERSION:2.0
PRODID:icalendar-ruby
CALSCALE:GREGORIAN
METHOD:PUBLISH
BEGIN:VEVENT
DTSTAMP:20260422T025933Z
UID:9998ee3d-e1b0-4973-8f30-1ef834a4acac
DTSTART;VALUE=DATE:20230620
DTEND;VALUE=DATE:20230620
DESCRIPTION:Hardesty National BMX Stadium
LOCATION:490 N Lansing Ave  Tulsa OK 74120 USA
SUMMARY:Local Race Single
URL:/site/bmx_races/533755
END:VEVENT
END:VCALENDAR
