BEGIN:VCALENDAR
VERSION:2.0
PRODID:icalendar-ruby
CALSCALE:GREGORIAN
METHOD:PUBLISH
BEGIN:VEVENT
DTSTAMP:20260423T023452Z
UID:786d4e99-e91a-4476-90ac-0d810165590e
DTSTART;VALUE=DATE:20230619
DTEND;VALUE=DATE:20230619
DESCRIPTION:Desoto BMX
LOCATION:Grimes Park 500 E. Centre Park Blvd Desoto TX 75115 USA
SUMMARY:Local Race Single
URL:/site/bmx_races/533795
END:VEVENT
END:VCALENDAR
