BEGIN:VCALENDAR
VERSION:2.0
PRODID:icalendar-ruby
CALSCALE:GREGORIAN
METHOD:PUBLISH
BEGIN:VEVENT
DTSTAMP:20260423T170936Z
UID:7b8ee376-39c3-42a9-8bb7-61f8a9a9e762
DTSTART;VALUE=DATE:20230622
DTEND;VALUE=DATE:20230622
DESCRIPTION:Wheelhouse BMX
LOCATION:10401 E Hwy 89 A   Prescott AZ 86315 USA
SUMMARY:Practice
URL:/site/bmx_races/533825
END:VEVENT
END:VCALENDAR
