BEGIN:VCALENDAR
VERSION:2.0
PRODID:icalendar-ruby
CALSCALE:GREGORIAN
METHOD:PUBLISH
BEGIN:VEVENT
DTSTAMP:20260423T121509Z
UID:c76b2540-dc11-4cac-9c4d-f70040564e6d
DTSTART;VALUE=DATE:20230914
DTEND;VALUE=DATE:20230914
DESCRIPTION:Wheelhouse BMX
LOCATION:10401 E Hwy 89 A   Prescott AZ 86315 USA
SUMMARY:Practice
URL:/site/bmx_races/533841
END:VEVENT
END:VCALENDAR
