BEGIN:VCALENDAR
VERSION:2.0
PRODID:icalendar-ruby
CALSCALE:GREGORIAN
METHOD:PUBLISH
BEGIN:VEVENT
DTSTAMP:20260426T032625Z
UID:c1bc8c2a-ada1-4ca2-9c74-6e675a9f363e
DTSTART;VALUE=DATE:20230710
DTEND;VALUE=DATE:20230710
DESCRIPTION:Vernon BMX
LOCATION:Ranger Park 1900 47th Ave  Vernon BC V1T 8X4 CAN
SUMMARY:Local Race Single
URL:/site/bmx_races/533921
END:VEVENT
END:VCALENDAR
