BEGIN:VCALENDAR
VERSION:2.0
PRODID:icalendar-ruby
CALSCALE:GREGORIAN
METHOD:PUBLISH
BEGIN:VEVENT
DTSTAMP:20260424T045248Z
UID:1e63181f-4b8e-4186-ba5c-95a7940b4c16
DTSTART;VALUE=DATE:20230627
DTEND;VALUE=DATE:20230627
DESCRIPTION:Freedom Park BMX Raceway
LOCATION:530 Convair St  Camarillo CA 93010 USA
SUMMARY:Local Race Single
URL:/site/bmx_races/534119
END:VEVENT
END:VCALENDAR
