BEGIN:VCALENDAR
VERSION:2.0
PRODID:icalendar-ruby
CALSCALE:GREGORIAN
METHOD:PUBLISH
BEGIN:VEVENT
DTSTAMP:20260422T010558Z
UID:e30d823e-d88f-4b4d-9a31-1733051d49d0
DTSTART;VALUE=DATE:20240905
DTEND;VALUE=DATE:20240905
DESCRIPTION:High Springs BMX
LOCATION:  High Springs FL 32028 USA
SUMMARY:Practice
URL:/site/bmx_races/534314
END:VEVENT
END:VCALENDAR
