BEGIN:VCALENDAR
VERSION:2.0
PRODID:icalendar-ruby
CALSCALE:GREGORIAN
METHOD:PUBLISH
BEGIN:VEVENT
DTSTAMP:20260422T005034Z
UID:19addbbc-3502-4e6c-8d68-098406455e89
DTSTART;VALUE=DATE:20240912
DTEND;VALUE=DATE:20240912
DESCRIPTION:High Springs BMX
LOCATION:  High Springs FL 32028 USA
SUMMARY:Practice
URL:/site/bmx_races/534316
END:VEVENT
END:VCALENDAR
