BEGIN:VCALENDAR
VERSION:2.0
PRODID:icalendar-ruby
CALSCALE:GREGORIAN
METHOD:PUBLISH
BEGIN:VEVENT
DTSTAMP:20260421T214554Z
UID:21d97834-7205-4113-942a-626f9ccdc6cc
DTSTART;VALUE=DATE:20241110
DTEND;VALUE=DATE:20241110
DESCRIPTION:High Springs BMX
LOCATION:  High Springs FL 32028 USA
SUMMARY:Local Race Single
URL:/site/bmx_races/534390
END:VEVENT
END:VCALENDAR
