BEGIN:VCALENDAR
VERSION:2.0
PRODID:icalendar-ruby
CALSCALE:GREGORIAN
METHOD:PUBLISH
BEGIN:VEVENT
DTSTAMP:20260421T121704Z
UID:4563acdc-ecd8-41d7-bd27-301ebe443373
DTSTART;VALUE=DATE:20231212
DTEND;VALUE=DATE:20231212
DESCRIPTION:Oceanside BMX
LOCATION:354 Park Rd  Qualicum Beach BC V9Y3R5 CAN
SUMMARY:Local Race Single
URL:/site/bmx_races/534979
END:VEVENT
END:VCALENDAR
