BEGIN:VCALENDAR
VERSION:2.0
PRODID:icalendar-ruby
CALSCALE:GREGORIAN
METHOD:PUBLISH
BEGIN:VEVENT
DTSTAMP:20260423T190731Z
UID:c65610b6-ad1f-4844-9683-381048609b30
DTSTART;VALUE=DATE:20230725
DTEND;VALUE=DATE:20230725
DESCRIPTION:Supertrak BMX
LOCATION:Carrie Jane Gray Park 323 Del Laverdure Way Prince George BC V2N4Z
 5 CAN
SUMMARY:Local Race Single
URL:/site/bmx_races/536207
END:VEVENT
END:VCALENDAR
