BEGIN:VCALENDAR
VERSION:2.0
PRODID:icalendar-ruby
CALSCALE:GREGORIAN
METHOD:PUBLISH
BEGIN:VEVENT
DTSTAMP:20260422T121615Z
UID:934d2f72-2269-4b52-aa54-947a3a948c9c
DTSTART;VALUE=DATE:20240101
DTEND;VALUE=DATE:20240101
DESCRIPTION:High Springs BMX
LOCATION:  High Springs FL 32028 USA
SUMMARY:Local Race Single
URL:/site/bmx_races/536339
END:VEVENT
END:VCALENDAR
