BEGIN:VCALENDAR
VERSION:2.0
PRODID:icalendar-ruby
CALSCALE:GREGORIAN
METHOD:PUBLISH
BEGIN:VEVENT
DTSTAMP:20260422T081443Z
UID:26a751ea-96fe-43d5-afbd-9bc057885e12
DTSTART;VALUE=DATE:20230728
DTEND;VALUE=DATE:20230728
DESCRIPTION:Cabot BMX
LOCATION:2351 Willie Ray Road  Cabot AR 72023 USA
SUMMARY:Local Race Single
URL:/site/bmx_races/536417
END:VEVENT
END:VCALENDAR
