BEGIN:VCALENDAR
VERSION:2.0
PRODID:icalendar-ruby
CALSCALE:GREGORIAN
METHOD:PUBLISH
BEGIN:VEVENT
DTSTAMP:20260423T184609Z
UID:43b91ff9-a1b5-469f-b912-4f917c2c1d0a
DTSTART;VALUE=DATE:20231028
DTEND;VALUE=DATE:20231028
DESCRIPTION:Freedom Park BMX Raceway
LOCATION:530 Convair St  Camarillo CA 93010 USA
SUMMARY:Earned Double
URL:/site/bmx_races/536557
END:VEVENT
END:VCALENDAR
