BEGIN:VCALENDAR
VERSION:2.0
PRODID:icalendar-ruby
CALSCALE:GREGORIAN
METHOD:PUBLISH
BEGIN:VEVENT
DTSTAMP:20260419T155452Z
UID:d9207a93-edab-43d8-a955-9356fcf86ef8
DTSTART;VALUE=DATE:20230729
DTEND;VALUE=DATE:20230729
DESCRIPTION:Rogue Valley BMX
LOCATION:Highland Drive  Medford OR 97504 USA
SUMMARY:Local Race Single
URL:/site/bmx_races/536641
END:VEVENT
END:VCALENDAR
