BEGIN:VCALENDAR
VERSION:2.0
PRODID:icalendar-ruby
CALSCALE:GREGORIAN
METHOD:PUBLISH
BEGIN:VEVENT
DTSTAMP:20260423T103746Z
UID:a90d96c5-ecda-4998-be9b-d1dd15e8a7a7
DTSTART;VALUE=DATE:20231027
DTEND;VALUE=DATE:20231027
DESCRIPTION:Okeeheelee BMX
LOCATION:8145 Forest Hill Blvd  West Palm Beach FL 33413 USA
SUMMARY:Local Race Single
URL:/site/bmx_races/536682
END:VEVENT
END:VCALENDAR
