BEGIN:VCALENDAR
VERSION:2.0
PRODID:icalendar-ruby
CALSCALE:GREGORIAN
METHOD:PUBLISH
BEGIN:VEVENT
DTSTAMP:20260419T142346Z
UID:5f7cdd32-de5f-4e83-a847-f46ef3a79b6d
DTSTART;VALUE=DATE:20231201
DTEND;VALUE=DATE:20231201
DESCRIPTION:Okeeheelee BMX
LOCATION:8145 Forest Hill Blvd  West Palm Beach FL 33413 USA
SUMMARY:Local Race Single
URL:/site/bmx_races/536686
END:VEVENT
END:VCALENDAR
