BEGIN:VCALENDAR
VERSION:2.0
PRODID:icalendar-ruby
CALSCALE:GREGORIAN
METHOD:PUBLISH
BEGIN:VEVENT
DTSTAMP:20260423T043158Z
UID:0db04119-0dca-45d8-9eee-a05924c21621
DTSTART;VALUE=DATE:20230915
DTEND;VALUE=DATE:20230915
DESCRIPTION:Okeeheelee BMX
LOCATION:8145 Forest Hill Blvd  West Palm Beach FL 33413 USA
SUMMARY:Race for Life Single
URL:/site/bmx_races/537033
END:VEVENT
END:VCALENDAR
