BEGIN:VCALENDAR
VERSION:2.0
PRODID:icalendar-ruby
CALSCALE:GREGORIAN
METHOD:PUBLISH
BEGIN:VEVENT
DTSTAMP:20260421T160539Z
UID:b92e2f74-fcd6-41f2-97d3-0888445b83f9
DTSTART;VALUE=DATE:20230908
DTEND;VALUE=DATE:20230908
DESCRIPTION:First State BMX
LOCATION:1045 N Walnut St  Milford DE 19963 USA
SUMMARY:Local Race Single
URL:/site/bmx_races/537055
END:VEVENT
END:VCALENDAR
