BEGIN:VCALENDAR
VERSION:2.0
PRODID:icalendar-ruby
CALSCALE:GREGORIAN
METHOD:PUBLISH
BEGIN:VEVENT
DTSTAMP:20260422T150157Z
UID:f360cdbe-6c79-451f-b0df-0f3dd8728ec8
DTSTART;VALUE=DATE:20230923
DTEND;VALUE=DATE:20230923
DESCRIPTION:Pemberton BMX
LOCATION:Cottonwood Road  Pemberton BC V0N2L1 CAN
SUMMARY:Local Race Single
URL:/site/bmx_races/537056
END:VEVENT
END:VCALENDAR
