BEGIN:VCALENDAR
VERSION:2.0
PRODID:icalendar-ruby
CALSCALE:GREGORIAN
METHOD:PUBLISH
BEGIN:VEVENT
DTSTAMP:20260421T010343Z
UID:0563cd6f-cba1-458d-80e3-5eda948e52ca
DTSTART;VALUE=DATE:20240724
DTEND;VALUE=DATE:20240724
DESCRIPTION:Boulder BMX\, Inc
LOCATION:1799 Commons Way  Boulder City NV 89005 USA
SUMMARY:Practice
URL:/site/bmx_races/537296
END:VEVENT
END:VCALENDAR
