BEGIN:VCALENDAR
VERSION:2.0
PRODID:icalendar-ruby
CALSCALE:GREGORIAN
METHOD:PUBLISH
BEGIN:VEVENT
DTSTAMP:20260420T182212Z
UID:d3cb30e5-0bbf-4a3b-9b10-429130ac4d1e
DTSTART;VALUE=DATE:20241101
DTEND;VALUE=DATE:20241101
DESCRIPTION:Boulder BMX\, Inc
LOCATION:1799 Commons Way  Boulder City NV 89005 USA
SUMMARY:Local Race Single
URL:/site/bmx_races/537325
END:VEVENT
END:VCALENDAR
