BEGIN:VCALENDAR
VERSION:2.0
PRODID:icalendar-ruby
CALSCALE:GREGORIAN
METHOD:PUBLISH
BEGIN:VEVENT
DTSTAMP:20260420T211658Z
UID:0ad8e435-3ccb-4d2f-bf6a-e0c45c6973d8
DTSTART;VALUE=DATE:20230909
DTEND;VALUE=DATE:20230909
DESCRIPTION:Grand Prix BMX at SoCal Fair
LOCATION:18700 Lake Perris Dr  Perris CA 92571 USA
SUMMARY:Local Race Single
URL:/site/bmx_races/538569
END:VEVENT
END:VCALENDAR
