BEGIN:VCALENDAR
VERSION:2.0
PRODID:icalendar-ruby
CALSCALE:GREGORIAN
METHOD:PUBLISH
BEGIN:VEVENT
DTSTAMP:20260423T072553Z
UID:6f54952e-e966-411e-ba03-10dbbdd95c23
DTSTART;VALUE=DATE:20230914
DTEND;VALUE=DATE:20230914
DESCRIPTION:Supertrak BMX
LOCATION:Carrie Jane Gray Park 323 Del Laverdure Way Prince George BC V2N4Z
 5 CAN
SUMMARY:Local Race Single
URL:/site/bmx_races/538786
END:VEVENT
END:VCALENDAR
