BEGIN:VCALENDAR
VERSION:2.0
PRODID:icalendar-ruby
CALSCALE:GREGORIAN
METHOD:PUBLISH
BEGIN:VEVENT
DTSTAMP:20260423T174034Z
UID:7eb1a34a-c12f-4f6e-9727-183ef249fa6d
DTSTART;VALUE=DATE:20231025
DTEND;VALUE=DATE:20231025
DESCRIPTION:River City BMX
LOCATION:251 Ne Agness  Grants Pass OR 97526 USA
SUMMARY:Local Race Single
URL:/site/bmx_races/539597
END:VEVENT
END:VCALENDAR
