BEGIN:VCALENDAR
VERSION:2.0
PRODID:icalendar-ruby
CALSCALE:GREGORIAN
METHOD:PUBLISH
BEGIN:VEVENT
DTSTAMP:20260424T110153Z
UID:3ec976dc-1d40-4397-be4d-988ebf607c33
DTSTART;VALUE=DATE:20231028
DTEND;VALUE=DATE:20231028
DESCRIPTION:River City BMX
LOCATION:251 Ne Agness  Grants Pass OR 97526 USA
SUMMARY:Local Race Single
URL:/site/bmx_races/539600
END:VEVENT
END:VCALENDAR
