BEGIN:VCALENDAR
VERSION:2.0
PRODID:icalendar-ruby
CALSCALE:GREGORIAN
METHOD:PUBLISH
BEGIN:VEVENT
DTSTAMP:20260421T105904Z
UID:a770bcf1-bc9d-4ee0-be5e-dd743fe46ac8
DTSTART;VALUE=DATE:20240210
DTEND;VALUE=DATE:20240210
DESCRIPTION:Hornet`s Nest BMX
LOCATION:6301 Beatties Ford Rd  Charlotte NC 28216 USA
SUMMARY:Practice
URL:/site/bmx_races/539712
END:VEVENT
END:VCALENDAR
